BEGIN:VCALENDAR
VERSION:2.0
PRODID:-//Gruppo Aeromodellisti Lugano - ECPv6.15.20//NONSGML v1.0//EN
CALSCALE:GREGORIAN
METHOD:PUBLISH
X-WR-CALNAME:Gruppo Aeromodellisti Lugano
X-ORIGINAL-URL:https://gal.ch
X-WR-CALDESC:Eventi per Gruppo Aeromodellisti Lugano
REFRESH-INTERVAL;VALUE=DURATION:PT1H
X-Robots-Tag:noindex
X-PUBLISHED-TTL:PT1H
BEGIN:VTIMEZONE
TZID:Europe/Zurich
BEGIN:DAYLIGHT
TZOFFSETFROM:+0100
TZOFFSETTO:+0200
TZNAME:CEST
DTSTART:20220327T010000
END:DAYLIGHT
BEGIN:STANDARD
TZOFFSETFROM:+0200
TZOFFSETTO:+0100
TZNAME:CET
DTSTART:20221030T010000
END:STANDARD
BEGIN:DAYLIGHT
TZOFFSETFROM:+0100
TZOFFSETTO:+0200
TZNAME:CEST
DTSTART:20230326T010000
END:DAYLIGHT
BEGIN:STANDARD
TZOFFSETFROM:+0200
TZOFFSETTO:+0100
TZNAME:CET
DTSTART:20231029T010000
END:STANDARD
BEGIN:DAYLIGHT
TZOFFSETFROM:+0100
TZOFFSETTO:+0200
TZNAME:CEST
DTSTART:20240331T010000
END:DAYLIGHT
BEGIN:STANDARD
TZOFFSETFROM:+0200
TZOFFSETTO:+0100
TZNAME:CET
DTSTART:20241027T010000
END:STANDARD
END:VTIMEZONE
BEGIN:VEVENT
DTSTART;TZID=Europe/Zurich:20231001T100000
DTEND;TZID=Europe/Zurich:20231001T160000
DTSTAMP:20260421T121720
CREATED:20230518T122446Z
LAST-MODIFIED:20230922T074813Z
UID:1867-1696154400-1696176000@gal.ch
SUMMARY:Giornata sociale - "alianti"
DESCRIPTION:Che siano puri oppure elettrici: ti aspettiamo a Melano con il tuo aliante per volare in compagnìa! \nA disposizione vi sarà la nostra pista di volo così come un verricello o elastico per portare in quota il tuo modello. \nIscriviti subito!\nL’aperitivo lo offriamo noi; sul mezzogiorno la nostra griglia sarà aperta e potrai portare le tue pietanze da cucinare.
URL:https://gal.ch/evento/giornata-sociale-tema-alianti/
LOCATION:Melano\, Melano\, Svizzera
CATEGORIES:Eventi sociali
ATTACH;FMTTYPE=image/jpeg:https://gal.ch/wp-content/uploads/2016/07/copertina_aliante-e_2000.jpg
ORGANIZER;CN="Gruppo Aeromodellisti Lugano":MAILTO:info@gal.ch
END:VEVENT
END:VCALENDAR