BEGIN:VCALENDAR
VERSION:2.0
PRODID:-//Gruppo Aeromodellisti Lugano - ECPv6.15.20//NONSGML v1.0//EN
CALSCALE:GREGORIAN
METHOD:PUBLISH
X-WR-CALNAME:Gruppo Aeromodellisti Lugano
X-ORIGINAL-URL:https://gal.ch
X-WR-CALDESC:Eventi per Gruppo Aeromodellisti Lugano
REFRESH-INTERVAL;VALUE=DURATION:PT1H
X-Robots-Tag:noindex
X-PUBLISHED-TTL:PT1H
BEGIN:VTIMEZONE
TZID:Europe/Zurich
BEGIN:DAYLIGHT
TZOFFSETFROM:+0100
TZOFFSETTO:+0200
TZNAME:CEST
DTSTART:20220327T010000
END:DAYLIGHT
BEGIN:STANDARD
TZOFFSETFROM:+0200
TZOFFSETTO:+0100
TZNAME:CET
DTSTART:20221030T010000
END:STANDARD
BEGIN:DAYLIGHT
TZOFFSETFROM:+0100
TZOFFSETTO:+0200
TZNAME:CEST
DTSTART:20230326T010000
END:DAYLIGHT
BEGIN:STANDARD
TZOFFSETFROM:+0200
TZOFFSETTO:+0100
TZNAME:CET
DTSTART:20231029T010000
END:STANDARD
BEGIN:DAYLIGHT
TZOFFSETFROM:+0100
TZOFFSETTO:+0200
TZNAME:CEST
DTSTART:20240331T010000
END:DAYLIGHT
BEGIN:STANDARD
TZOFFSETFROM:+0200
TZOFFSETTO:+0100
TZNAME:CET
DTSTART:20241027T010000
END:STANDARD
BEGIN:DAYLIGHT
TZOFFSETFROM:+0100
TZOFFSETTO:+0200
TZNAME:CEST
DTSTART:20250330T010000
END:DAYLIGHT
BEGIN:STANDARD
TZOFFSETFROM:+0200
TZOFFSETTO:+0100
TZNAME:CET
DTSTART:20251026T010000
END:STANDARD
BEGIN:DAYLIGHT
TZOFFSETFROM:+0100
TZOFFSETTO:+0200
TZNAME:CEST
DTSTART:20260329T010000
END:DAYLIGHT
BEGIN:STANDARD
TZOFFSETFROM:+0200
TZOFFSETTO:+0100
TZNAME:CET
DTSTART:20261025T010000
END:STANDARD
END:VTIMEZONE
BEGIN:VTIMEZONE
TZID:Europe/Paris
BEGIN:DAYLIGHT
TZOFFSETFROM:+0100
TZOFFSETTO:+0200
TZNAME:CEST
DTSTART:20220327T010000
END:DAYLIGHT
BEGIN:STANDARD
TZOFFSETFROM:+0200
TZOFFSETTO:+0100
TZNAME:CET
DTSTART:20221030T010000
END:STANDARD
BEGIN:DAYLIGHT
TZOFFSETFROM:+0100
TZOFFSETTO:+0200
TZNAME:CEST
DTSTART:20230326T010000
END:DAYLIGHT
BEGIN:STANDARD
TZOFFSETFROM:+0200
TZOFFSETTO:+0100
TZNAME:CET
DTSTART:20231029T010000
END:STANDARD
BEGIN:DAYLIGHT
TZOFFSETFROM:+0100
TZOFFSETTO:+0200
TZNAME:CEST
DTSTART:20240331T010000
END:DAYLIGHT
BEGIN:STANDARD
TZOFFSETFROM:+0200
TZOFFSETTO:+0100
TZNAME:CET
DTSTART:20241027T010000
END:STANDARD
END:VTIMEZONE
BEGIN:VEVENT
DTSTART;TZID=Europe/Zurich:20250517T183000
DTEND;TZID=Europe/Zurich:20250517T230000
DTSTAMP:20260420T024019
CREATED:20250422T160848Z
LAST-MODIFIED:20250502T071421Z
UID:2196-1747506600-1747522800@gal.ch
SUMMARY:Cena in Hangar 2025
DESCRIPTION:Caro socio e amico dell’Aeroporto\, \n\n\n\n\n\n\ncon grande piacere ti invitiamo alla CENA offerta dall’AeroClub Lugano\, che si svolgerà presso l’Hangar del GVML\n\nSabato 17 maggio dalle 19:00\n\nPer la cena è previsto “Risotto e luganiga”\, magistralmente preparati dai nostri bravi Chef Mario Grillo & Damiano Longhi\, che già sin d’ora ringraziamo.\n\nCondizioni per partecipare: Tanta allegria\, voglia di stare in compagnia oltre all’iscrizione (obbligatoria per motivi organizzativi) entro domenica 11 maggio\, tramite il seguente\n\nLINK\n\nSono invitati anche mogli\, mariti\, compagni/e.\n\nVi aspettiamo numerosi!\n\nUn caro saluto a tutti\n\nComitato GVML e Aero Club Lugano
URL:https://gal.ch/evento/cena-in-hangar-2025/
LOCATION:Lugano-Airport\, Via Aeroporto\, Agno\, TI\, 6982\, Svizzera
CATEGORIES:Eventi AeCL,Eventi sociali
ATTACH;FMTTYPE=image/jpeg:https://gal.ch/wp-content/uploads/2025/04/cena-hangar.jpg
ORGANIZER;CN="AeroClub Lugano":MAILTO:info@aeroclublugano.ch
END:VEVENT
BEGIN:VEVENT
DTSTART;TZID=Europe/Zurich:20240128T153000
DTEND;TZID=Europe/Zurich:20240128T180000
DTSTAMP:20260420T024019
CREATED:20231208T100148Z
LAST-MODIFIED:20231208T100403Z
UID:1977-1706455800-1706464800@gal.ch
SUMMARY:Partecipazione alla trasmissione RSI "Domenica"
DESCRIPTION:Cari soci\, \ndomenica 28 gennaio 2024 abbiamo la possibilità di presenziare come Gruppo Aeromodellisti Lugano alla trasmissione TV “Domenica“\, condotta da Carla Norghauer\, che andrà in onda in diretta su RSI LA1. Si tratta di un’occasione fantastica per presentare il nostro Hobby! \nL’impegno richiesto è dalle 15:30 circa fino alle 18:00. Per confermare la partecipazione\, la produzione richiede la presenza di 28 persone\, tra soci\, parenti e amici/simpatizzanti. \nPer confermare la presenza\, vi invito a riempire il formulario seguente entro mercoledì 20 dicembre: \nhttps://docs.google.com/forms/d/e/1FAIpQLSeTmsRse4e6kM_QnswAYosCi15D3QbxC_sz0jL4Qe8G1QptaA/viewform \nNon escludiamo inoltre che alcuni modelli potrebbero essere messi in esposizione durante la trasmissione\, per cui segnalate evtl la disponibilità di vostri modelli nel box “Osservazioni”. \nVi invitiamo ad iscrivervi numerosi\, così da mostrare al pubblico il lato migliore della nostra bellissima attività. Al termine\, per chi vorrà\, possiamo organizzare evtl una pizza in compagnìa. \nSportivi saluti\, \nIl comitato
URL:https://gal.ch/evento/partecipazione-alla-trasmissione-rsi-domenica/
LOCATION:Studi RSI\, Comano\, Via Cureglia 38\, Comano\, 6949
ATTACH;FMTTYPE=image/jpeg:https://gal.ch/wp-content/uploads/2023/12/rsi_domenica_2024.jpg
ORGANIZER;CN="Gruppo Aeromodellisti Lugano":MAILTO:info@gal.ch
END:VEVENT
BEGIN:VEVENT
DTSTART;TZID=Europe/Zurich:20231001T100000
DTEND;TZID=Europe/Zurich:20231001T160000
DTSTAMP:20260420T024019
CREATED:20230518T122446Z
LAST-MODIFIED:20230922T074813Z
UID:1867-1696154400-1696176000@gal.ch
SUMMARY:Giornata sociale - "alianti"
DESCRIPTION:Che siano puri oppure elettrici: ti aspettiamo a Melano con il tuo aliante per volare in compagnìa! \nA disposizione vi sarà la nostra pista di volo così come un verricello o elastico per portare in quota il tuo modello. \nIscriviti subito!\nL’aperitivo lo offriamo noi; sul mezzogiorno la nostra griglia sarà aperta e potrai portare le tue pietanze da cucinare.
URL:https://gal.ch/evento/giornata-sociale-tema-alianti/
LOCATION:Melano\, Melano\, Svizzera
CATEGORIES:Eventi sociali
ATTACH;FMTTYPE=image/jpeg:https://gal.ch/wp-content/uploads/2016/07/copertina_aliante-e_2000.jpg
ORGANIZER;CN="Gruppo Aeromodellisti Lugano":MAILTO:info@gal.ch
END:VEVENT
BEGIN:VEVENT
DTSTART;VALUE=DATE:20230825
DTEND;VALUE=DATE:20230828
DTSTAMP:20260420T024019
CREATED:20230227T150243Z
LAST-MODIFIED:20230825T145031Z
UID:1797-1692921600-1693180799@gal.ch
SUMMARY:ANNULLATO!!!! Fly-in Lugano Airport (con aeromodellisti GAL)
DESCRIPTION:Fly-in all’aeroporto di Lugano-Agno\, con partecipazione di modellisti del GAL sabato 26 agosto h12:20-12:45. \nInfo 25.08.2023: l’evento è stato annullato a seguito delle pessime previsioni meteo.
URL:https://gal.ch/evento/fly-in-lugano-airport-con-aeromodellisti-gal/
LOCATION:Lugano-Airport\, Via Aeroporto\, Agno\, TI\, 6982\, Svizzera
CATEGORIES:Eventi AeCL
ATTACH;FMTTYPE=image/jpeg:https://gal.ch/wp-content/uploads/2023/02/IMG_20220917_143438-scaled.jpg
END:VEVENT
BEGIN:VEVENT
DTSTART;VALUE=DATE:20230617
DTEND;VALUE=DATE:20230618
DTSTAMP:20260420T024019
CREATED:20230227T150445Z
LAST-MODIFIED:20230227T150445Z
UID:1801-1686960000-1687046399@gal.ch
SUMMARY:Assemblea Aero Club Lugano
DESCRIPTION:SAVE THE DATE – Assemblea Aero Club Lugano (data provvisoria)
URL:https://gal.ch/evento/assemblea-aero-club-lugano/
CATEGORIES:Eventi AeCL
ATTACH;FMTTYPE=image/jpeg:https://gal.ch/wp-content/uploads/2023/01/sfondo_solo_logo_2000.jpg
END:VEVENT
BEGIN:VEVENT
DTSTART;VALUE=DATE:20230507
DTEND;VALUE=DATE:20230508
DTSTAMP:20260420T024019
CREATED:20230201T234324Z
LAST-MODIFIED:20230201T234818Z
UID:1549-1683417600-1683503999@gal.ch
SUMMARY:1a giornata sociale al campo con concorso
DESCRIPTION:SAVE THE DATE – Maggiori dettagli seguiranno tempestivamente
URL:https://gal.ch/evento/1a-giornata-sociale-al-campo-con-concorso/
LOCATION:Melano\, Melano\, Svizzera
CATEGORIES:Concorsi,Eventi sociali
ATTACH;FMTTYPE=image/jpeg:https://gal.ch/wp-content/uploads/2016/07/copertina_aliante-e_2000.jpg
ORGANIZER;CN="Gruppo Aeromodellisti Lugano":MAILTO:info@gal.ch
END:VEVENT
END:VCALENDAR