BEGIN:VCALENDAR
VERSION:2.0
PRODID:-//Gruppo Aeromodellisti Lugano - ECPv6.15.20//NONSGML v1.0//EN
CALSCALE:GREGORIAN
METHOD:PUBLISH
X-WR-CALNAME:Gruppo Aeromodellisti Lugano
X-ORIGINAL-URL:https://gal.ch
X-WR-CALDESC:Eventi per Gruppo Aeromodellisti Lugano
REFRESH-INTERVAL;VALUE=DURATION:PT1H
X-Robots-Tag:noindex
X-PUBLISHED-TTL:PT1H
BEGIN:VTIMEZONE
TZID:Europe/Zurich
BEGIN:DAYLIGHT
TZOFFSETFROM:+0100
TZOFFSETTO:+0200
TZNAME:CEST
DTSTART:20250330T010000
END:DAYLIGHT
BEGIN:STANDARD
TZOFFSETFROM:+0200
TZOFFSETTO:+0100
TZNAME:CET
DTSTART:20251026T010000
END:STANDARD
BEGIN:DAYLIGHT
TZOFFSETFROM:+0100
TZOFFSETTO:+0200
TZNAME:CEST
DTSTART:20260329T010000
END:DAYLIGHT
BEGIN:STANDARD
TZOFFSETFROM:+0200
TZOFFSETTO:+0100
TZNAME:CET
DTSTART:20261025T010000
END:STANDARD
BEGIN:DAYLIGHT
TZOFFSETFROM:+0100
TZOFFSETTO:+0200
TZNAME:CEST
DTSTART:20270328T010000
END:DAYLIGHT
BEGIN:STANDARD
TZOFFSETFROM:+0200
TZOFFSETTO:+0100
TZNAME:CET
DTSTART:20271031T010000
END:STANDARD
END:VTIMEZONE
BEGIN:VEVENT
DTSTART;TZID=Europe/Zurich:20261011T140000
DTEND;TZID=Europe/Zurich:20261011T170000
DTSTAMP:20260419T220403
CREATED:20230213T205827Z
LAST-MODIFIED:20260309T213107Z
UID:1715-1791727200-1791738000@gal.ch
SUMMARY:Castagnata GAL
DESCRIPTION:
URL:https://gal.ch/evento/castagnata/
LOCATION:Melano\, Melano\, Svizzera
CATEGORIES:Eventi sociali
ATTACH;FMTTYPE=image/jpeg:https://gal.ch/wp-content/uploads/2024/10/castagnata.jpg
END:VEVENT
END:VCALENDAR