BEGIN:VCALENDAR
VERSION:2.0
PRODID:-//Gruppo Aeromodellisti Lugano - ECPv6.15.20//NONSGML v1.0//EN
CALSCALE:GREGORIAN
METHOD:PUBLISH
X-ORIGINAL-URL:https://gal.ch
X-WR-CALDESC:Eventi per Gruppo Aeromodellisti Lugano
REFRESH-INTERVAL;VALUE=DURATION:PT1H
X-Robots-Tag:noindex
X-PUBLISHED-TTL:PT1H
BEGIN:VTIMEZONE
TZID:Europe/Zurich
BEGIN:DAYLIGHT
TZOFFSETFROM:+0100
TZOFFSETTO:+0200
TZNAME:CEST
DTSTART:20240331T010000
END:DAYLIGHT
BEGIN:STANDARD
TZOFFSETFROM:+0200
TZOFFSETTO:+0100
TZNAME:CET
DTSTART:20241027T010000
END:STANDARD
BEGIN:DAYLIGHT
TZOFFSETFROM:+0100
TZOFFSETTO:+0200
TZNAME:CEST
DTSTART:20250330T010000
END:DAYLIGHT
BEGIN:STANDARD
TZOFFSETFROM:+0200
TZOFFSETTO:+0100
TZNAME:CET
DTSTART:20251026T010000
END:STANDARD
BEGIN:DAYLIGHT
TZOFFSETFROM:+0100
TZOFFSETTO:+0200
TZNAME:CEST
DTSTART:20260329T010000
END:DAYLIGHT
BEGIN:STANDARD
TZOFFSETFROM:+0200
TZOFFSETTO:+0100
TZNAME:CET
DTSTART:20261025T010000
END:STANDARD
BEGIN:DAYLIGHT
TZOFFSETFROM:+0100
TZOFFSETTO:+0200
TZNAME:CEST
DTSTART:20270328T010000
END:DAYLIGHT
BEGIN:STANDARD
TZOFFSETFROM:+0200
TZOFFSETTO:+0100
TZNAME:CET
DTSTART:20271031T010000
END:STANDARD
END:VTIMEZONE
BEGIN:VEVENT
DTSTART;TZID=Europe/Zurich:20260320T080000
DTEND;TZID=Europe/Zurich:20260320T170000
DTSTAMP:20260419T143900
CREATED:20260305T210641Z
LAST-MODIFIED:20260309T110619Z
UID:2318-1773993600-1774026000@gal.ch
SUMMARY:Aperitivo del 90esimo
DESCRIPTION:Cari soci\, cari amici del GAL\, \ncon piacere invitiamo tutti voi al primo degli eventi in programma per festeggiare i 90 anni del nostro sodalizio. \nCome saprete\, sia l’Aero Club Lugano che il Gruppo Aeromodellisti Lugano sono stati fondati presso questo storico bar cittadino\, che prima si chiamava “Bar Golf”; il GAL\, in particolar modo\, è nato il 20 marzo 1936… \nQuale modo migliore\, dunque\, per inaugurare l’anno celebrativo se non con un bel… \nAPERITIVO DEL 90ESIMO \nvenerdì 20 marzo 2026 dalle 18:00 \nPresso il Bar “Convivio”\nVia della Posta 2 a Lugano (sotto i portici) \nAll’aperitivo sono ovviamente invitati anche i vostri famigliari. \nPer avere un’idea più o meno di quanti saremo\, vi chiediamo di cortesemente rispondere a questo sondaggio entro martedì 17 marzo\, grazie mille. \nLe sorprese non finiscono qui… Vi invitiamo sin d’ora a riservare la data di SABATO 30 MAGGIO (tutto il giorno per i piloti\, e la fine pomeriggio/sera per gli altri e per i famigliari). Il calendario con tutti gli appuntamenti dell’anno verrà inviato a breve\, attendiamo le ultime conferme. \nCon la speranza di vedervi numerosi\, inviamo \nSportivi saluti\, \nIl comitato
URL:https://gal.ch/evento/aperitivo-del-90esimo/
CATEGORIES:Eventi sociali
ATTACH;FMTTYPE=image/jpeg:https://gal.ch/wp-content/uploads/2026/03/bar_convivio_lugano.jpg
END:VEVENT
BEGIN:VEVENT
DTSTART;TZID=Europe/Zurich:20251204T191500
DTEND;TZID=Europe/Zurich:20251204T223000
DTSTAMP:20260419T143900
CREATED:20251113T081020Z
LAST-MODIFIED:20251113T081508Z
UID:2298-1764875700-1764887400@gal.ch
SUMMARY:Conferenza Yves "The JetMan" Rossy
DESCRIPTION:Con grande piacere l’Aero Club Lugano invita tutti gli interessati a seguire la conferenza di\n\nYves “The JetMan” Rossy \nche si terrà\ngiovedì 4 dicembre 2025 dalle 20:00 circa\npresso la saletta AeroClub Lugano in aeroporto.\n\n\nYves Rossy è nato nel 1959\, à Neuchâtel. Pilota di linea (Airbus A320) e militare (Mirage IIIS bi-supersonico)\, Appassionato dell’aria da sempre ed è per questo che prova numerose esperienze come il parapendio\, il paracadute\, il deltaplano\, lo skysurfing\, la tuta alare e anche l’ULM. Alla ricerca di più libertà nell’aria\, indirizzerà la sua carriera professionale con lo scopo di raggiungere obiettivi di libertà assoluta e diventerà un inventore. Dopo un lungo periodo di ricerca (10 anni e 15 prototipi) sviluppa un’ala rigida portante munita di 4 mini-reattori alimentati da kerosene. Riesce così a volare nelle tre dimensioni semplicemente con lo spostamento del corpo.\n\n\n\n\n\n\n\n\nIl GAL ha il piacere di annoverare Yves tra i suoi iscritti\, grazie all’amicizia che lo lega a diversi nostri soci\, alcuni dei quali fondamentali nel percorso verso la realizzazione del suo sogno.\n\n\n\n\n\n\nL’evento sarà preceduto da un ricco aperitivo offerto a tutti i presenti.\n\n\n\n\n\nIn allegato la locandina con le informazioni dell’evento; le iscrizioni sono cortesemente da inviare sul sito https://docs.google.com/forms/d/e/1FAIpQLSeyT4NXRZX90dTKA4YXpdxeIOtM3FSYpA_MdEm4FQgPfTBOVA/viewform entro il 27 novembre.
URL:https://gal.ch/evento/conferenza-yves-the-jetman-rossy/
LOCATION:Lugano-Airport\, Via Aeroporto\, Agno\, TI\, 6982\, Svizzera
CATEGORIES:Eventi AeCL
ATTACH;FMTTYPE=image/jpeg:https://gal.ch/wp-content/uploads/2025/11/jetman_yves_rossy.jpg
ORGANIZER;CN="AeroClub Lugano":MAILTO:info@aeroclublugano.ch
END:VEVENT
END:VCALENDAR